BEGIN:VCALENDAR
VERSION:2.0
PRODID:GIGPRESS 2.0 WORDPRESS PLUGIN
CALSCALE:GREGORIAN
X-WR-TIMEZONE:Etc/GMT
METHOD:PUBLISH
BEGIN:VTIMEZONE
TZID:GMT
BEGIN:STANDARD
DTSTART:20071028T010000
TZOFFSETTO:+0000
TZOFFSETFROM:+0000
END:STANDARD
END:VTIMEZONE
BEGIN:VEVENT
SUMMARY:Toss the Possum at Irish American Heritage Center
DESCRIPTION:Notes: Bob Isaacs Calling All Ages
LOCATION:Irish American Heritage Center\, 4626 N Knox Ave\, Chicago\, US
UID:20260423T200000Z-572-laurazisette@gmail.com
URL:https://tossthepossum.net
DTSTART;VALUE=DATE-TIME;TZID=GMT:20260423T200000Z
DTEND;VALUE=DATE-TIME;TZID=GMT:20260423T200000Z
DTSTAMP:20260423T025524Z
END:VEVENT
END:VCALENDAR