BEGIN:VCALENDAR
VERSION:2.0
X-WR-CALNAME: Upcoming shows
PRODID:GIGPRESS 2.0 WORDPRESS PLUGIN
CALSCALE:GREGORIAN
X-WR-TIMEZONE:Etc/GMT
METHOD:PUBLISH
BEGIN:VTIMEZONE
TZID:GMT
BEGIN:STANDARD
DTSTART:20071028T010000
TZOFFSETTO:+0000
TZOFFSETFROM:+0000
END:STANDARD
END:VTIMEZONE
BEGIN:VEVENT
SUMMARY:Toss the Possum at Irish American Heritage Center
DESCRIPTION:Notes: Bob Isaacs Calling All Ages
LOCATION:Irish American Heritage Center\, 4626 N Knox Ave\, Chicago\, US
UID:20260423T200000Z-572-laurazisette@gmail.com
URL:https://tossthepossum.net
DTSTART;VALUE=DATE-TIME;TZID=GMT:20260423T200000Z
DTEND;VALUE=DATE-TIME;TZID=GMT:20260423T200000Z
DTSTAMP:20260423T025610Z
END:VEVENT
BEGIN:VEVENT
SUMMARY:Toss the Possum at Trillium Twirl
DESCRIPTION:All Ages
LOCATION:Trillium Twirl\, Clear Lake\, US
UID:20260424T190000Z-570-laurazisette@gmail.com
URL:https://tossthepossum.net
DTSTART;VALUE=DATE-TIME;TZID=GMT:20260424T190000Z
DTEND;VALUE=DATE-TIME;TZID=GMT:20260426T190000Z
DTSTAMP:20260423T025610Z
END:VEVENT
BEGIN:VEVENT
SUMMARY:Toss the Possum at Irish American Heritage Center
DESCRIPTION:Notes: Bob Isaacs calling All Ages
LOCATION:Irish American Heritage Center\, 4626 N Knox Ave\, Chicago\, US
UID:20260427T200000Z-573-laurazisette@gmail.com
URL:https://tossthepossum.net
DTSTART;VALUE=DATE-TIME;TZID=GMT:20260427T200000Z
DTEND;VALUE=DATE-TIME;TZID=GMT:20260427T200000Z
DTSTAMP:20260423T025610Z
END:VEVENT
BEGIN:VEVENT
SUMMARY:Toss the Possum at ROANOKE RAILROADER
DESCRIPTION:All Ages
LOCATION:ROANOKE RAILROADER\, SALEM\, VIRGINIA\, US
UID:20260702T193000Z-556-laurazisette@gmail.com
URL:https://tossthepossum.net
DTSTART;VALUE=DATE-TIME;TZID=GMT:20260702T193000Z
DTEND;VALUE=DATE-TIME;TZID=GMT:20260705T193000Z
DTSTAMP:20260423T025610Z
END:VEVENT
BEGIN:VEVENT
SUMMARY:Toss the Possum at RIVER RENDEZVOUS
DESCRIPTION:All Ages
LOCATION:RIVER RENDEZVOUS\, COSHOCTON\, OHIO\, US
UID:20260718T193000Z-562-laurazisette@gmail.com
URL:https://tossthepossum.net
DTSTART;VALUE=DATE-TIME;TZID=GMT:20260718T193000Z
DTEND;VALUE=DATE-TIME;TZID=GMT:20260720T193000Z
DTSTAMP:20260423T025610Z
END:VEVENT
BEGIN:VEVENT
SUMMARY:Toss the Possum at GLEN ECHO CONTRA DANCE
DESCRIPTION:All Ages
LOCATION:GLEN ECHO CONTRA DANCE\, Glen Echo Park\, Washington D.C.\, US
UID:20260724T200000Z-574-laurazisette@gmail.com
URL:https://tossthepossum.net
DTSTART;VALUE=DATE-TIME;TZID=GMT:20260724T200000Z
DTEND;VALUE=DATE-TIME;TZID=GMT:20260724T200000Z
DTSTAMP:20260423T025610Z
END:VEVENT
BEGIN:VEVENT
SUMMARY:Toss the Possum at Suzanne Patterson Building
DESCRIPTION:All Ages
LOCATION:Suzanne Patterson Building\, 1 Monument Dr.\, Princeton\, US
UID:20260725T190000Z-579-laurazisette@gmail.com
URL:https://tossthepossum.net
DTSTART;VALUE=DATE-TIME;TZID=GMT:20260725T190000Z
DTEND;VALUE=DATE-TIME;TZID=GMT:20260725T190000Z
DTSTAMP:20260423T025610Z
END:VEVENT
BEGIN:VEVENT
SUMMARY:Toss the Possum at First Presbyterian Church
DESCRIPTION:All Ages
LOCATION:First Presbyterian Church\, 2344 Center Street\, Bethlehem\, US
UID:20261127T140000Z-578-laurazisette@gmail.com
URL:https://tossthepossum.net
DTSTART;VALUE=DATE-TIME;TZID=GMT:20261127T140000Z
DTEND;VALUE=DATE-TIME;TZID=GMT:20261127T140000Z
DTSTAMP:20260423T025610Z
END:VEVENT
BEGIN:VEVENT
SUMMARY:Toss the Possum at Commodore Barry Center
DESCRIPTION:Notes: Contracopia All Ages
LOCATION:Commodore Barry Center\, 6815 Emlen St\, Mt Airy\, US
UID:20261128T140000Z-577-laurazisette@gmail.com
URL:https://tossthepossum.net
DTSTART;VALUE=DATE-TIME;TZID=GMT:20261128T140000Z
DTEND;VALUE=DATE-TIME;TZID=GMT:20261128T140000Z
DTSTAMP:20260423T025610Z
END:VEVENT
BEGIN:VEVENT
SUMMARY:Toss the Possum at Park Avenue Community Center
DESCRIPTION:Notes: Contracopia All Ages
LOCATION:Park Avenue Community Center\, 129 Park Ave\, Swarthmore\, US
UID:20261129T110000Z-575-laurazisette@gmail.com
URL:https://tossthepossum.net
DTSTART;VALUE=DATE-TIME;TZID=GMT:20261129T110000Z
DTEND;VALUE=DATE-TIME;TZID=GMT:20261129T110000Z
DTSTAMP:20260423T025610Z
END:VEVENT
BEGIN:VEVENT
SUMMARY:Toss the Possum at Fayette County Park
DESCRIPTION:All Ages
LOCATION:Fayette County Park\, 1407 Fayette County Park Rd\, Fayetteville\, US
UID:20270507T200000Z-576-laurazisette@gmail.com
URL:https://tossthepossum.net
DTSTART;VALUE=DATE-TIME;TZID=GMT:20270507T200000Z
DTEND;VALUE=DATE-TIME;TZID=GMT:20270509T200000Z
DTSTAMP:20260423T025610Z
END:VEVENT
END:VCALENDAR